BEGIN:VCALENDAR
VERSION:2.0
PRODID:-//wp-events-plugin.com//7.2.3.1//EN
TZID:Europe/Berlin
X-WR-TIMEZONE:Europe/Berlin
BEGIN:VEVENT
UID:128@culturissimo.com
DTSTART;TZID=Europe/Berlin:20260424T193000
DTEND;TZID=Europe/Berlin:20260424T210000
DTSTAMP:20251124T202555Z
URL:https://www.culturissimo.com/veranstaltungen/culturissimo-live-im-spor
 tpark-bojangels/
SUMMARY:CulturisSIMo – Live im Sportpark: Bojangels
DESCRIPTION:\n\nEin Abend voller Oldies\, Soul\, Blues und Rock'n Roll mit 
 Bo Endres (Gesang)\, Thomas Torkler (Gitarre)\, Wolf Dobberthin (Piano und
  Saxophon)\, Frank Sievers und Mathias Friedrich. Handgemacht und Live im 
 Sportpark.\n\nIn Kooperation mit CulturisSIMo
ATTACH;FMTTYPE=image/jpeg:https://www.culturissimo.com/wp-content/uploads/
 2021_bojangles_900x600.jpg
CATEGORIES:Konzert
LOCATION:Sportpark Simmern\, Am Naturfreibad 1\, Simmern (Hunsrück)\, 5546
 9\, Deutschland
GEO:49.975609;7.523889
X-APPLE-STRUCTURED-LOCATION;VALUE=URI;X-ADDRESS=Am Naturfreibad 1\, Simmern
  (Hunsrück)\, 55469\, Deutschland;X-APPLE-RADIUS=100;X-TITLE=Sportpark Si
 mmern:geo:49.975609,7.523889
END:VEVENT
BEGIN:VTIMEZONE
TZID:Europe/Berlin
X-LIC-LOCATION:Europe/Berlin
BEGIN:DAYLIGHT
DTSTART:20260329T030000
TZOFFSETFROM:+0100
TZOFFSETTO:+0200
TZNAME:CEST
END:DAYLIGHT
END:VTIMEZONE
END:VCALENDAR